BEGIN:VCALENDAR
VERSION:2.0
PRODID:-//The District Alliance for Safe Housing - ECPv5.6.0//NONSGML v1.0//EN
CALSCALE:GREGORIAN
METHOD:PUBLISH
X-WR-CALNAME:The District Alliance for Safe Housing
X-ORIGINAL-URL:https://www.dashdc.org
X-WR-CALDESC:Events for The District Alliance for Safe Housing
BEGIN:VTIMEZONE
TZID:UTC
BEGIN:STANDARD
TZOFFSETFROM:+0000
TZOFFSETTO:+0000
TZNAME:UTC
DTSTART:20160101T000000
END:STANDARD
END:VTIMEZONE
BEGIN:VEVENT
DTSTART;TZID=UTC:20160211T180000
DTEND;TZID=UTC:20160211T200000
DTSTAMP:20210524T152457
CREATED:20160109T192042Z
LAST-MODIFIED:20160119T151830Z
UID:2669-1455213600-1455220800@www.dashdc.org
SUMMARY:Benefit for DASH at Slash Run!
DESCRIPTION:Come out for a fun evening at Petworth’s Slash Run burger bar!  \nStop by between 6-8PM and proceeds will support DASH.  \nWe can’t wait to see you!
URL:https://www.dashdc.org/event/benefit-for-dash-at-slash-run/
LOCATION:Slash Run\, 201 Upshur St NW\, Washington\, DC 20011\, Washington\, DC\, 20011\, United States
ATTACH;FMTTYPE=image/jpeg:https://www.dashdc.org/wp-content/uploads/2016/01/benefit-for-dash.jpg
ORGANIZER;CN="DASH":MAILTO:info@dashdc.wpengine.com
END:VEVENT
END:VCALENDAR