BEGIN:VCALENDAR
VERSION:2.0
PRODID:-//The District Alliance for Safe Housing - ECPv5.7.0//NONSGML v1.0//EN
CALSCALE:GREGORIAN
METHOD:PUBLISH
X-WR-CALNAME:The District Alliance for Safe Housing
X-ORIGINAL-URL:https://www.dashdc.org
X-WR-CALDESC:Events for The District Alliance for Safe Housing
BEGIN:VTIMEZONE
TZID:UTC
BEGIN:STANDARD
TZOFFSETFROM:+0000
TZOFFSETTO:+0000
TZNAME:UTC
DTSTART:20150101T000000
END:STANDARD
END:VTIMEZONE
BEGIN:VEVENT
DTSTART;TZID=UTC:20151022T080000
DTEND;TZID=UTC:20151022T170000
DTSTAMP:20210607T142603
CREATED:20151004T172238Z
LAST-MODIFIED:20151004T172238Z
UID:2644-1445500800-1445533200@www.dashdc.org
SUMMARY:Purple Thursday
DESCRIPTION:  \n \nWear purple to stand in solidarity with survivors of domestic violence. Tag @DASHDC and #PurpleThursday. Interested in hosting a fundraiser for Purple Thursday? Contact Jasmine at 202-462-3274 x227.
URL:https://www.dashdc.org/event/purple-thursday/
END:VEVENT
END:VCALENDAR